BEGIN:VCALENDAR
VERSION:2.0
PRODID:-//Sabre//Sabre VObject 4.5.8//EN
CALSCALE:GREGORIAN
BEGIN:VEVENT
UID:sabre-vobject-d5a60b39-7f9e-4cea-9b5a-3ccca718c464
DTSTAMP:20260424T060631Z
SUMMARY:Familienmesse in der Fastenzeit für alle Lebenden und Verstorbenen
  der Pfarreiengemeinschaft - Musikalische Gestaltung: Kinderchor
DESCRIPTION:https://pfarreien-bistum-augsburg.df-preview.de/familienmesse-i
 n-der-fastenzeit-fuer-alle-lebenden-und-verstorbenen-der-pfarreiengemeinsc
 haft-musikalische-gestaltung-kinderchor_id1678326
DTSTART;TZID=Europe/Berlin:20260322T101500
DURATION:PT30M
LOCATION:Mariä Himmelfahrt
END:VEVENT
END:VCALENDAR
