BEGIN:VCALENDAR
VERSION:2.0
PRODID:-//Sabre//Sabre VObject 4.5.8//EN
CALSCALE:GREGORIAN
BEGIN:VEVENT
UID:sabre-vobject-565ed611-873e-4a8c-90ef-288d8baf0b6e
DTSTAMP:20260424T110212Z
SUMMARY:Hl. Messe im Altenheim Schlössle
DESCRIPTION:https://pfarreien-bistum-augsburg.df-preview.de/hl-messe-im-alt
 enheim-schloessle_id1678311
DTSTART;TZID=Europe/Berlin:20260327T153000
DURATION:PT30M
LOCATION:St. Nikolaus
END:VEVENT
END:VCALENDAR
