BEGIN:VCALENDAR
VERSION:2.0
PRODID:-//Sabre//Sabre VObject 4.5.8//EN
CALSCALE:GREGORIAN
BEGIN:VEVENT
UID:sabre-vobject-c4ce7bb9-27c3-4721-967c-a01cb4c28fce
DTSTAMP:20260424T104435Z
SUMMARY:Hl. Messe
DESCRIPTION:https://pfarreien-bistum-augsburg.df-preview.de/hl-messe_id1678
 281
DTSTART;TZID=Europe/Berlin:20260326T090000
DURATION:PT30M
LOCATION:Maria\, Hilfe der Christen
END:VEVENT
END:VCALENDAR
