BEGIN:VCALENDAR
VERSION:2.0
PRODID:-//Sabre//Sabre VObject 4.5.8//EN
CALSCALE:GREGORIAN
BEGIN:VEVENT
UID:sabre-vobject-958743ce-f601-446f-a75f-910ecde0f527
DTSTAMP:20260424T155536Z
SUMMARY:Seniorengottesdienst: Festgottesdienst\, anschl. Kaffeerunde im gro
 ßen Pfarrsaal
DESCRIPTION:https://pfarreien-bistum-augsburg.df-preview.de/seniorengottesd
 ienst-festgottesdienst-anschl-kaffeerunde-im-grossen-pfarrsaal_id1678279
DTSTART;TZID=Europe/Berlin:20260325T143000
DURATION:PT30M
LOCATION:Maria\, Hilfe der Christen
END:VEVENT
END:VCALENDAR
