BEGIN:VCALENDAR
VERSION:2.0
PRODID:-//Sabre//Sabre VObject 4.5.8//EN
CALSCALE:GREGORIAN
BEGIN:VEVENT
UID:sabre-vobject-d96bd7a7-e8d9-4f0c-9686-8bc6dcbcced6
DTSTAMP:20260424T221444Z
SUMMARY:Abend der Versöhnung für die PG - musik. gest. von Crossover
DESCRIPTION:https://pfarreien-bistum-augsburg.df-preview.de/abend-der-verso
 ehnung-fuer-die-pg-musik-gest-von-crossover_id1677922
DTSTART;TZID=Europe/Berlin:20260326T183000
DURATION:PT30M
LOCATION:St. Felizitas
END:VEVENT
END:VCALENDAR
