BEGIN:VCALENDAR
VERSION:2.0
PRODID:-//Sabre//Sabre VObject 4.5.8//EN
CALSCALE:GREGORIAN
BEGIN:VEVENT
UID:sabre-vobject-ede973d0-5977-451c-98d5-f2a40ce11d94
DTSTAMP:20260424T001029Z
SUMMARY:Fastenrosenkranz
DESCRIPTION:https://pfarreien-bistum-augsburg.df-preview.de/fastenrosenkran
 z_id1677466
DTSTART;TZID=Europe/Berlin:20260319T190000
DURATION:PT30M
LOCATION:Heilig Kreuz\, Haupeltshofer Straße 2\, 86480 Aletshausen
END:VEVENT
END:VCALENDAR
