BEGIN:VCALENDAR
VERSION:2.0
PRODID:-//Sabre//Sabre VObject 4.5.8//EN
CALSCALE:GREGORIAN
BEGIN:VEVENT
UID:sabre-vobject-78a2a19c-f845-447e-b7fc-632221f123e4
DTSTAMP:20260420T205812Z
SUMMARY:Versöhnungsfeier (Bußgottesdienst)\, anschl. Beichtgelegenheit im
  Pfarrheim
DESCRIPTION:https://pfarreien-bistum-augsburg.df-preview.de/versoehnungsfei
 er-bussgottesdienst-anschl-beichtgelegenheit-im-pfarrheim_id1677333
DTSTART;TZID=Europe/Berlin:20260318T183000
DURATION:PT30M
LOCATION:St. Laurentius\, Obernefsried 3\, 86500 Agawang
END:VEVENT
END:VCALENDAR
