BEGIN:VCALENDAR
VERSION:2.0
PRODID:-//Sabre//Sabre VObject 4.5.8//EN
CALSCALE:GREGORIAN
BEGIN:VEVENT
UID:sabre-vobject-a8998577-c99d-46dd-9fb2-7d886a60ebf8
DTSTAMP:20260422T070053Z
SUMMARY:Vorabendmesse zum Sonntag - Verkauf der Palmbuschen vor der Hl. Mes
 se durch den KDFB (2 EUR/Stck. - kein Wechselgeld). - Wir beten auch für 
 unsere Geburtstags-Jubilare (März).
DESCRIPTION:https://pfarreien-bistum-augsburg.df-preview.de/vorabendmesse-z
 um-sonntag-verkauf-der-palmbuschen-vor-der-hl-messe-durch-den-kdfb-2-eur-s
 tck-kein-wechselgeld-wir-beten-auch-fuer-unsere-geburtstags-jubilare-maerz
 _id1677312
DTSTART;TZID=Europe/Berlin:20260321T180000
DURATION:PT30M
LOCATION:St. Martin\, Kirchplatz 8\, 85107 Baar-Ebenhausen
END:VEVENT
END:VCALENDAR
