BEGIN:VCALENDAR
VERSION:2.0
PRODID:-//Sabre//Sabre VObject 4.5.8//EN
CALSCALE:GREGORIAN
BEGIN:VEVENT
UID:sabre-vobject-e5168d76-73e0-45e5-80db-7c1ae54a4eba
DTSTAMP:20260422T001328Z
SUMMARY:Kreuzweg (Treffpunkt am `Ecce homo` am Kalvarienberg\; von dort aus
  laufen wir gemeinsam eine gut begehbare Strecke)
DESCRIPTION:https://pfarreien-bistum-augsburg.df-preview.de/kreuzweg-treffp
 unkt-am-ecce-homo-am-kalvarienberg-von-dort-aus-laufen-wir-gemeinsam-eine-
 gut-begehbare-strecke_id1677025
DTSTART;TZID=Europe/Berlin:20260329T130000
DURATION:PT30M
LOCATION:St. Nikolaus\, Amselweg 1\, 86695 Allmannshofen
END:VEVENT
END:VCALENDAR
