BEGIN:VCALENDAR
VERSION:2.0
PRODID:-//Sabre//Sabre VObject 4.5.8//EN
CALSCALE:GREGORIAN
BEGIN:VEVENT
UID:sabre-vobject-ac99e65c-6889-488d-b012-a9daa5ea850c
DTSTAMP:20260420T192633Z
SUMMARY:Heilige Messe mit Krankensalbung
DESCRIPTION:https://pfarreien-bistum-augsburg.df-preview.de/heilige-messe-m
 it-krankensalbung_id1676993
DTSTART;TZID=Europe/Berlin:20260320T070000
DURATION:PT30M
LOCATION:Kuratie St. Johannes Baptist\, Klosterstr. 1\, 86695 Allmannshofen
 -Holzen
END:VEVENT
END:VCALENDAR
