BEGIN:VCALENDAR
VERSION:2.0
PRODID:-//Sabre//Sabre VObject 4.5.8//EN
CALSCALE:GREGORIAN
BEGIN:VEVENT
UID:sabre-vobject-dcb1eee3-6959-477b-9a56-b86a6651c1e6
DTSTAMP:20260420T224554Z
SUMMARY:Heilige Messe
DESCRIPTION:https://pfarreien-bistum-augsburg.df-preview.de/heilige-messe_i
 d1676992
DTSTART;TZID=Europe/Berlin:20260319T070000
DURATION:PT30M
LOCATION:Kuratie St. Johannes Baptist\, Klosterstr. 1\, 86695 Allmannshofen
 -Holzen
END:VEVENT
END:VCALENDAR
