BEGIN:VCALENDAR
VERSION:2.0
PRODID:-//Sabre//Sabre VObject 4.5.8//EN
CALSCALE:GREGORIAN
BEGIN:VEVENT
UID:sabre-vobject-ae036cee-ae87-4636-8906-2b4bbd70d383
DTSTAMP:20260421T001000Z
SUMMARY:Rosenkranz
DESCRIPTION:https://pfarreien-bistum-augsburg.df-preview.de/rosenkranz_id16
 76989
DTSTART;TZID=Europe/Berlin:20260318T070000
DURATION:PT30M
LOCATION:Kuratie St. Johannes Baptist\, Klosterstr. 1\, 86695 Allmannshofen
 -Holzen
END:VEVENT
END:VCALENDAR
