BEGIN:VCALENDAR
VERSION:2.0
PRODID:-//Sabre//Sabre VObject 4.5.8//EN
CALSCALE:GREGORIAN
BEGIN:VEVENT
UID:sabre-vobject-606a9caf-728f-4b17-a788-cca8d2144b83
DTSTAMP:20260420T085507Z
SUMMARY:Heilige Messe
DESCRIPTION:https://pfarreien-bistum-augsburg.df-preview.de/heilige-messe_i
 d1676845
DTSTART;TZID=Europe/Berlin:20260320T190000
DURATION:PT30M
LOCATION:Mariä Reinigung
END:VEVENT
END:VCALENDAR
