BEGIN:VCALENDAR
VERSION:2.0
PRODID:-//Sabre//Sabre VObject 4.5.8//EN
CALSCALE:GREGORIAN
BEGIN:VEVENT
UID:sabre-vobject-70191957-4e7c-4432-aae1-83863331dadc
DTSTAMP:20260422T182325Z
SUMMARY:- 11.00 Uhr Krabbelgruppe im Kirchenraum des Gemeindehauses
DESCRIPTION:https://pfarreien-bistum-augsburg.df-preview.de/11-00-uhr-krabb
 elgruppe-im-kirchenraum-des-gemeindehauses_id1676779
DTSTART;TZID=Europe/Berlin:20260318T093000
DURATION:PT30M
LOCATION:St. Katharina
END:VEVENT
END:VCALENDAR
