BEGIN:VCALENDAR
VERSION:2.0
PRODID:-//Sabre//Sabre VObject 4.5.8//EN
CALSCALE:GREGORIAN
BEGIN:VEVENT
UID:sabre-vobject-f9dd640d-a616-426b-b952-7cfc91d34ff1
DTSTAMP:20260425T220622Z
SUMMARY:Exerzitien im Alltag - Pfarrzentrum St. Pankratius
DESCRIPTION:https://pfarreien-bistum-augsburg.df-preview.de/exerzitien-im-a
 lltag-pfarrzentrum-st-pankratius_id1676290
DTSTART;TZID=Europe/Berlin:20260325T194500
DURATION:PT30M
LOCATION:St. Pankratius
END:VEVENT
END:VCALENDAR
