BEGIN:VCALENDAR
VERSION:2.0
PRODID:-//Sabre//Sabre VObject 4.5.8//EN
CALSCALE:GREGORIAN
BEGIN:VEVENT
UID:sabre-vobject-b737d1dc-2bdf-427a-8f42-076a4e00c870
DTSTAMP:20260421T200058Z
SUMMARY:Heilige Messe
DESCRIPTION:https://pfarreien-bistum-augsburg.df-preview.de/heilige-messe_i
 d1676199
DTSTART;TZID=Europe/Berlin:20260327T090000
DURATION:PT30M
LOCATION:St. Martin\, St.-Martin-Straße 15\, 86561 Aresing
END:VEVENT
END:VCALENDAR
