BEGIN:VCALENDAR
VERSION:2.0
PRODID:-//Sabre//Sabre VObject 4.5.8//EN
CALSCALE:GREGORIAN
BEGIN:VEVENT
UID:sabre-vobject-b15fe7dd-2861-465c-b40b-96bafe19b40c
DTSTAMP:20260422T130815Z
SUMMARY:Heilige Messe
DESCRIPTION:https://pfarreien-bistum-augsburg.df-preview.de/heilige-messe_i
 d1676173
DTSTART;TZID=Europe/Berlin:20260320T090000
DURATION:PT30M
LOCATION:St. Martin\, St.-Martin-Straße 15\, 86561 Aresing
END:VEVENT
END:VCALENDAR
