BEGIN:VCALENDAR
VERSION:2.0
PRODID:-//Sabre//Sabre VObject 4.5.8//EN
CALSCALE:GREGORIAN
BEGIN:VEVENT
UID:sabre-vobject-d68b7689-9f74-4fb9-8591-1e62f31af5df
DTSTAMP:20260421T091315Z
SUMMARY:Vorabendmesse - Familiengottesdienst
DESCRIPTION:https://pfarreien-bistum-augsburg.df-preview.de/vorabendmesse-f
 amiliengottesdienst_id1676063
DTSTART;TZID=Europe/Berlin:20260321T183000
DURATION:PT30M
LOCATION:Hlgst. Dreifaltigkeit
END:VEVENT
END:VCALENDAR
