BEGIN:VCALENDAR
VERSION:2.0
PRODID:-//Sabre//Sabre VObject 4.5.8//EN
CALSCALE:GREGORIAN
BEGIN:VEVENT
UID:sabre-vobject-1f54deb3-23fd-4709-bada-f19c15c39124
DTSTAMP:20260423T112823Z
SUMMARY:Rosenkranz
DESCRIPTION:https://pfarreien-bistum-augsburg.df-preview.de/rosenkranz_id16
 75099
DTSTART;TZID=Europe/Berlin:20260406T095500
DURATION:PT30M
LOCATION:St. Georg
END:VEVENT
END:VCALENDAR
