BEGIN:VCALENDAR
VERSION:2.0
PRODID:-//Sabre//Sabre VObject 4.5.8//EN
CALSCALE:GREGORIAN
BEGIN:VEVENT
UID:sabre-vobject-24f129f3-6791-407a-aeca-8f1c3d1d10a3
DTSTAMP:20260423T125621Z
SUMMARY:Hochamt mit Speisenweihe
DESCRIPTION:https://pfarreien-bistum-augsburg.df-preview.de/hochamt-mit-spe
 isenweihe_id1675098
DTSTART;TZID=Europe/Berlin:20260405T103000
DURATION:PT30M
LOCATION:St. Georg
END:VEVENT
END:VCALENDAR
