BEGIN:VCALENDAR
VERSION:2.0
PRODID:-//Sabre//Sabre VObject 4.5.8//EN
CALSCALE:GREGORIAN
BEGIN:VEVENT
UID:sabre-vobject-cb578ec1-5501-4204-8036-b986c44eef96
DTSTAMP:20260424T111054Z
SUMMARY:Feier vom Leiden und Sterben Christi
DESCRIPTION:https://pfarreien-bistum-augsburg.df-preview.de/feier-vom-leide
 n-und-sterben-christi_id1675064
DTSTART;TZID=Europe/Berlin:20260403T150000
DURATION:PT30M
LOCATION:St. Georg
END:VEVENT
END:VCALENDAR
