BEGIN:VCALENDAR
VERSION:2.0
PRODID:-//Sabre//Sabre VObject 4.5.8//EN
CALSCALE:GREGORIAN
BEGIN:VEVENT
UID:sabre-vobject-b4ad0c26-7767-4e82-ad57-0bc4d46a929d
DTSTAMP:20260425T151437Z
SUMMARY:Heilige Messe
DESCRIPTION:https://pfarreien-bistum-augsburg.df-preview.de/heilige-messe_i
 d1675018
DTSTART;TZID=Europe/Berlin:20260325T190000
DURATION:PT30M
LOCATION:St. Peter und Paul\, Kirchweg 2\, 86462 Langweid-Achsheim
END:VEVENT
END:VCALENDAR
