BEGIN:VCALENDAR
VERSION:2.0
PRODID:-//Sabre//Sabre VObject 4.5.8//EN
CALSCALE:GREGORIAN
BEGIN:VEVENT
UID:sabre-vobject-5a5807cd-17bc-485c-9ed1-0fdb733b6dc5
DTSTAMP:20260420T214452Z
SUMMARY:Kreuzweg
DESCRIPTION:https://pfarreien-bistum-augsburg.df-preview.de/kreuzweg_id1675
 009
DTSTART;TZID=Europe/Berlin:20260403T101500
DURATION:PT30M
LOCATION:St. Ursula\, \, 89362 Offingen
END:VEVENT
END:VCALENDAR
