BEGIN:VCALENDAR
VERSION:2.0
PRODID:-//Sabre//Sabre VObject 4.5.8//EN
CALSCALE:GREGORIAN
BEGIN:VEVENT
UID:sabre-vobject-93158b0e-6789-4e48-95bb-023a896dcb2e
DTSTAMP:20260421T224437Z
SUMMARY:Heilige Erstkommunion
DESCRIPTION:https://pfarreien-bistum-augsburg.df-preview.de/heilige-erstkom
 munion_id1674999
DTSTART;TZID=Europe/Berlin:20260419T103000
DURATION:PT30M
LOCATION:St. Georg
END:VEVENT
END:VCALENDAR
