BEGIN:VCALENDAR
VERSION:2.0
PRODID:-//Sabre//Sabre VObject 4.5.8//EN
CALSCALE:GREGORIAN
BEGIN:VEVENT
UID:sabre-vobject-1f2e5031-d60f-43eb-aa7d-1d0bf7b85493
DTSTAMP:20260420T211351Z
SUMMARY:Rosenkranz
DESCRIPTION:https://pfarreien-bistum-augsburg.df-preview.de/rosenkranz_id16
 74998
DTSTART;TZID=Europe/Berlin:20260418T180000
DURATION:PT30M
LOCATION:St. Georg
END:VEVENT
END:VCALENDAR
