BEGIN:VCALENDAR
VERSION:2.0
PRODID:-//Sabre//Sabre VObject 4.5.8//EN
CALSCALE:GREGORIAN
BEGIN:VEVENT
UID:sabre-vobject-c7fdb340-6221-4ca4-80e9-03fe0d3dea07
DTSTAMP:20260420T122216Z
SUMMARY:Taufe Ophelia Josefine Pöschl
DESCRIPTION:https://pfarreien-bistum-augsburg.df-preview.de/taufe-ophelia-j
 osefine-poeschl_id1674980
DTSTART;TZID=Europe/Berlin:20260418T140000
DURATION:PT30M
LOCATION:St. Georg
END:VEVENT
END:VCALENDAR
