BEGIN:VCALENDAR
VERSION:2.0
PRODID:-//Sabre//Sabre VObject 4.5.8//EN
CALSCALE:GREGORIAN
BEGIN:VEVENT
UID:sabre-vobject-172ee66c-2ad6-4370-9231-f0645026fd7d
DTSTAMP:20260422T085503Z
SUMMARY:Rosenkranz
DESCRIPTION:https://pfarreien-bistum-augsburg.df-preview.de/rosenkranz_id16
 74977
DTSTART;TZID=Europe/Berlin:20260417T180000
DURATION:PT30M
LOCATION:St. Georg
END:VEVENT
END:VCALENDAR
