BEGIN:VCALENDAR
VERSION:2.0
PRODID:-//Sabre//Sabre VObject 4.5.8//EN
CALSCALE:GREGORIAN
BEGIN:VEVENT
UID:sabre-vobject-a3982b50-aee7-4a2f-bf64-9e547a49cb40
DTSTAMP:20260422T203508Z
SUMMARY:Beichtgelegenheit zum Barmherzigkeitsfest
DESCRIPTION:https://pfarreien-bistum-augsburg.df-preview.de/beichtgelegenhe
 it-zum-barmherzigkeitsfest_id1674942
DTSTART;TZID=Europe/Berlin:20260412T140000
DURATION:PT30M
LOCATION:St. Georg
END:VEVENT
END:VCALENDAR
