BEGIN:VCALENDAR
VERSION:2.0
PRODID:-//Sabre//Sabre VObject 4.5.8//EN
CALSCALE:GREGORIAN
BEGIN:VEVENT
UID:sabre-vobject-981f899f-90b3-4494-92ae-95b9663ff9a3
DTSTAMP:20260423T000954Z
SUMMARY:Rosenkranz
DESCRIPTION:https://pfarreien-bistum-augsburg.df-preview.de/rosenkranz_id16
 74935
DTSTART;TZID=Europe/Berlin:20260412T095500
DURATION:PT30M
LOCATION:St. Georg
END:VEVENT
END:VCALENDAR
