BEGIN:VCALENDAR
VERSION:2.0
PRODID:-//Sabre//Sabre VObject 4.5.8//EN
CALSCALE:GREGORIAN
BEGIN:VEVENT
UID:sabre-vobject-38801692-64ac-4380-af08-0edcfcb1fdd3
DTSTAMP:20260423T161019Z
SUMMARY:Heilige Messe
DESCRIPTION:https://pfarreien-bistum-augsburg.df-preview.de/heilige-messe_i
 d1674905
DTSTART;TZID=Europe/Berlin:20260324T180000
DURATION:PT30M
LOCATION:St. Vitus\, Augsburger Str. 32\, 86462 Langweid
END:VEVENT
END:VCALENDAR
