BEGIN:VCALENDAR
VERSION:2.0
PRODID:-//Sabre//Sabre VObject 4.5.8//EN
CALSCALE:GREGORIAN
BEGIN:VEVENT
UID:sabre-vobject-55a3bfa1-cddf-4e89-97f0-2fcc395af06a
DTSTAMP:20260422T111359Z
SUMMARY:Hl. Messe
DESCRIPTION:https://pfarreien-bistum-augsburg.df-preview.de/hl-messe_id1674
 738
DTSTART;TZID=Europe/Berlin:20260322T183000
DURATION:PT30M
LOCATION:St. Nikolaus\, Bodenseestraße 157\, 88138 Bösenreutin
END:VEVENT
END:VCALENDAR
