BEGIN:VCALENDAR
VERSION:2.0
PRODID:-//Sabre//Sabre VObject 4.5.8//EN
CALSCALE:GREGORIAN
BEGIN:VEVENT
UID:sabre-vobject-f3237d40-64c5-48d5-ba83-339cfde2624b
DTSTAMP:20260424T220805Z
SUMMARY:Heilige Messe zu Ehren d. Hl. Josef
DESCRIPTION:https://pfarreien-bistum-augsburg.df-preview.de/heilige-messe-z
 u-ehren-d-hl-josef_id1674730
DTSTART;TZID=Europe/Berlin:20260319T183000
DURATION:PT30M
LOCATION:St. Magnus
END:VEVENT
END:VCALENDAR
