BEGIN:VCALENDAR
VERSION:2.0
PRODID:-//Sabre//Sabre VObject 4.5.8//EN
CALSCALE:GREGORIAN
BEGIN:VEVENT
UID:sabre-vobject-55514f9c-eb41-4f2d-88d0-0c23624cd9b4
DTSTAMP:20260424T231307Z
SUMMARY:Heilige Messe
DESCRIPTION:https://pfarreien-bistum-augsburg.df-preview.de/heilige-messe_i
 d1674728
DTSTART;TZID=Europe/Berlin:20260318T183000
DURATION:PT30M
LOCATION:St. Magnus
END:VEVENT
END:VCALENDAR
