BEGIN:VCALENDAR
VERSION:2.0
PRODID:-//Sabre//Sabre VObject 4.5.8//EN
CALSCALE:GREGORIAN
BEGIN:VEVENT
UID:sabre-vobject-5235de5d-eb03-4f4f-87a9-f13366c74699
DTSTAMP:20260421T091410Z
SUMMARY:Kreuzwegandacht
DESCRIPTION:https://pfarreien-bistum-augsburg.df-preview.de/kreuzwegandacht
 _id1674618
DTSTART;TZID=Europe/Berlin:20260320T183000
DURATION:PT30M
LOCATION:St. Martin\, Martinstraße\, 86556 Unterbernbach
END:VEVENT
END:VCALENDAR
