BEGIN:VCALENDAR
VERSION:2.0
PRODID:-//Sabre//Sabre VObject 4.5.8//EN
CALSCALE:GREGORIAN
BEGIN:VEVENT
UID:sabre-vobject-6e9c2325-e6c7-45eb-a492-dff51a459390
DTSTAMP:20260422T064007Z
SUMMARY:Bußandacht\, anschl. Beichtgelegenheit
DESCRIPTION:https://pfarreien-bistum-augsburg.df-preview.de/bussandacht-ans
 chl-beichtgelegenheit_id1674606
DTSTART;TZID=Europe/Berlin:20260326T183000
DURATION:PT30M
LOCATION:St. Markus
END:VEVENT
END:VCALENDAR
