BEGIN:VCALENDAR
VERSION:2.0
PRODID:-//Sabre//Sabre VObject 4.5.8//EN
CALSCALE:GREGORIAN
BEGIN:VEVENT
UID:sabre-vobject-f23282e0-493f-4b84-91e4-c1d843c0ee60
DTSTAMP:20260422T081602Z
SUMMARY:Laudes
DESCRIPTION:https://pfarreien-bistum-augsburg.df-preview.de/laudes_id167460
 5
DTSTART;TZID=Europe/Berlin:20260326T071500
DURATION:PT30M
LOCATION:St. Markus
END:VEVENT
END:VCALENDAR
