BEGIN:VCALENDAR
VERSION:2.0
PRODID:-//Sabre//Sabre VObject 4.5.8//EN
CALSCALE:GREGORIAN
BEGIN:VEVENT
UID:sabre-vobject-99061a4a-b990-4302-8b7c-5ec297242c97
DTSTAMP:20260422T111243Z
SUMMARY:Stille Anbetung
DESCRIPTION:https://pfarreien-bistum-augsburg.df-preview.de/stille-anbetung
 _id1674604
DTSTART;TZID=Europe/Berlin:20260325T190000
DURATION:PT30M
LOCATION:St. Markus
END:VEVENT
END:VCALENDAR
