BEGIN:VCALENDAR
VERSION:2.0
PRODID:-//Sabre//Sabre VObject 4.5.8//EN
CALSCALE:GREGORIAN
BEGIN:VEVENT
UID:sabre-vobject-0eb710aa-b95b-4441-9be8-39a2be0d28ae
DTSTAMP:20260424T044407Z
SUMMARY:Kreuzweg
DESCRIPTION:https://pfarreien-bistum-augsburg.df-preview.de/kreuzweg_id1674
 471
DTSTART;TZID=Europe/Berlin:20260320T170000
DURATION:PT30M
LOCATION:St. Markus
END:VEVENT
END:VCALENDAR
