BEGIN:VCALENDAR
VERSION:2.0
PRODID:-//Sabre//Sabre VObject 4.5.8//EN
CALSCALE:GREGORIAN
BEGIN:VEVENT
UID:sabre-vobject-8128e244-7558-4b54-8cd8-0888b89fff46
DTSTAMP:20260424T071521Z
SUMMARY:Laudes
DESCRIPTION:https://pfarreien-bistum-augsburg.df-preview.de/laudes_id167446
 9
DTSTART;TZID=Europe/Berlin:20260319T071500
DURATION:PT30M
LOCATION:St. Markus
END:VEVENT
END:VCALENDAR
