BEGIN:VCALENDAR
VERSION:2.0
PRODID:-//Sabre//Sabre VObject 4.5.8//EN
CALSCALE:GREGORIAN
BEGIN:VEVENT
UID:sabre-vobject-6a3a93bf-1ba3-45e3-81e9-b0b473e6472a
DTSTAMP:20260424T131738Z
SUMMARY:Kreuzwegandacht - gestaltet v. KDFB
DESCRIPTION:https://pfarreien-bistum-augsburg.df-preview.de/kreuzwegandacht
 -gestaltet-v-kdfb_id1674311
DTSTART;TZID=Europe/Berlin:20260320T183000
DURATION:PT30M
LOCATION:St. Magnus
END:VEVENT
END:VCALENDAR
