BEGIN:VCALENDAR
VERSION:2.0
PRODID:-//Sabre//Sabre VObject 4.5.8//EN
CALSCALE:GREGORIAN
BEGIN:VEVENT
UID:sabre-vobject-c85dcebf-0517-4ce9-bad7-1790a6de6c55
DTSTAMP:20260422T000549Z
SUMMARY:Rosenkranz in den Wallfahreranliegen
DESCRIPTION:https://pfarreien-bistum-augsburg.df-preview.de/rosenkranz-in-d
 en-wallfahreranliegen_id1674266
DTSTART;TZID=Europe/Berlin:20260405T083000
DURATION:PT30M
LOCATION:Mariä Schmerzen u. St. Ulrich\, Kirchhof 4\, 87764 Maria Steinbac
 h
END:VEVENT
END:VCALENDAR
