BEGIN:VCALENDAR
VERSION:2.0
PRODID:-//Sabre//Sabre VObject 4.5.8//EN
CALSCALE:GREGORIAN
BEGIN:VEVENT
UID:sabre-vobject-39c59959-20d7-47a7-8322-322ea89a780c
DTSTAMP:20260422T174054Z
SUMMARY:Gottesdienst Pfr. Adalbert
DESCRIPTION:https://pfarreien-bistum-augsburg.df-preview.de/gottesdienst-pf
 r-adalbert_id1674207
DTSTART;TZID=Europe/Berlin:20260331T160000
DURATION:PT30M
LOCATION:Mariä Schmerzen u. St. Ulrich\, Kirchhof 4\, 87764 Maria Steinbac
 h
END:VEVENT
END:VCALENDAR
