BEGIN:VCALENDAR
VERSION:2.0
PRODID:-//Sabre//Sabre VObject 4.5.8//EN
CALSCALE:GREGORIAN
BEGIN:VEVENT
UID:sabre-vobject-6e6d1446-f75f-49b1-8bb5-64555ee2a35e
DTSTAMP:20260423T041007Z
SUMMARY:Wallfahrermesse
DESCRIPTION:https://pfarreien-bistum-augsburg.df-preview.de/wallfahrermesse
 _id1674202
DTSTART;TZID=Europe/Berlin:20260329T113000
DURATION:PT30M
LOCATION:Mariä Schmerzen u. St. Ulrich\, Kirchhof 4\, 87764 Maria Steinbac
 h
END:VEVENT
END:VCALENDAR
