BEGIN:VCALENDAR
VERSION:2.0
PRODID:-//Sabre//Sabre VObject 4.5.8//EN
CALSCALE:GREGORIAN
BEGIN:VEVENT
UID:sabre-vobject-f125b290-c93b-4263-a688-7e6803bccb59
DTSTAMP:20260423T040956Z
SUMMARY:Hl. Amt
DESCRIPTION:https://pfarreien-bistum-augsburg.df-preview.de/hl-amt_id167420
 1
DTSTART;TZID=Europe/Berlin:20260329T090000
DURATION:PT30M
LOCATION:Mariä Schmerzen u. St. Ulrich\, Kirchhof 4\, 87764 Maria Steinbac
 h
END:VEVENT
END:VCALENDAR
