BEGIN:VCALENDAR
VERSION:2.0
PRODID:-//Sabre//Sabre VObject 4.5.8//EN
CALSCALE:GREGORIAN
BEGIN:VEVENT
UID:sabre-vobject-55997244-e143-4662-b73b-f5129bd962b4
DTSTAMP:20260423T061609Z
SUMMARY:Rosenkranz in den Wallfahreranliegen
DESCRIPTION:https://pfarreien-bistum-augsburg.df-preview.de/rosenkranz-in-d
 en-wallfahreranliegen_id1674199
DTSTART;TZID=Europe/Berlin:20260329T083000
DURATION:PT30M
LOCATION:Mariä Schmerzen u. St. Ulrich\, Kirchhof 4\, 87764 Maria Steinbac
 h
END:VEVENT
END:VCALENDAR
