BEGIN:VCALENDAR
VERSION:2.0
PRODID:-//Sabre//Sabre VObject 4.5.8//EN
CALSCALE:GREGORIAN
BEGIN:VEVENT
UID:sabre-vobject-53a62e8f-1ae4-4474-b76b-e88443d51e9a
DTSTAMP:20260426T035017Z
SUMMARY:Kreuzweg
DESCRIPTION:https://pfarreien-bistum-augsburg.df-preview.de/kreuzweg_id1674
 037
DTSTART;TZID=Europe/Berlin:20260327T170000
DURATION:PT30M
LOCATION:St. Peter und Paul
END:VEVENT
END:VCALENDAR
