BEGIN:VCALENDAR
VERSION:2.0
PRODID:-//Sabre//Sabre VObject 4.5.8//EN
CALSCALE:GREGORIAN
BEGIN:VEVENT
UID:sabre-vobject-5f0cb5d3-605d-49c9-a20d-3894f3018023
DTSTAMP:20260424T041218Z
SUMMARY:Wallfahrermesse
DESCRIPTION:https://pfarreien-bistum-augsburg.df-preview.de/wallfahrermesse
 _id1673916
DTSTART;TZID=Europe/Berlin:20260322T113000
DURATION:PT30M
LOCATION:Mariä Schmerzen u. St. Ulrich\, Kirchhof 4\, 87764 Maria Steinbac
 h
END:VEVENT
END:VCALENDAR
