BEGIN:VCALENDAR
VERSION:2.0
PRODID:-//Sabre//Sabre VObject 4.5.8//EN
CALSCALE:GREGORIAN
BEGIN:VEVENT
UID:sabre-vobject-e9728250-b45a-43c7-89e3-fd358e55fe8d
DTSTAMP:20260424T185516Z
SUMMARY:Ewiges Gebet - Hl. Messe
DESCRIPTION:https://pfarreien-bistum-augsburg.df-preview.de/ewiges-gebet-hl
 -messe_id1673886
DTSTART;TZID=Europe/Berlin:20260321T123000
DURATION:PT30M
LOCATION:Mariä Schmerzen u. St. Ulrich\, Kirchhof 4\, 87764 Maria Steinbac
 h
END:VEVENT
END:VCALENDAR
