BEGIN:VCALENDAR
VERSION:2.0
PRODID:-//Sabre//Sabre VObject 4.5.8//EN
CALSCALE:GREGORIAN
BEGIN:VEVENT
UID:sabre-vobject-3e47e852-77e2-4b68-bd4f-d7b364f7e35c
DTSTAMP:20260424T195452Z
SUMMARY:Hl. Amt mit Fastenpredigt P. Friedrich Emde SDS
DESCRIPTION:https://pfarreien-bistum-augsburg.df-preview.de/hl-amt-mit-fast
 enpredigt-p-friedrich-emde-sds_id1673885
DTSTART;TZID=Europe/Berlin:20260320T090000
DURATION:PT30M
LOCATION:Mariä Schmerzen u. St. Ulrich\, Kirchhof 4\, 87764 Maria Steinbac
 h
END:VEVENT
END:VCALENDAR
