BEGIN:VCALENDAR
VERSION:2.0
PRODID:-//Sabre//Sabre VObject 4.5.8//EN
CALSCALE:GREGORIAN
BEGIN:VEVENT
UID:sabre-vobject-e3170794-6392-43e1-9798-c3e7b0428ecc
DTSTAMP:20260422T111339Z
SUMMARY:Hl. Messe in der Schwesternkapelle von Regens Wagner
DESCRIPTION:https://pfarreien-bistum-augsburg.df-preview.de/hl-messe-in-der
 -schwesternkapelle-von-regens-wagner_id1673579
DTSTART;TZID=Europe/Berlin:20260327T073000
DURATION:PT30M
LOCATION:St. Peter und Paul\, Kirchtalstr. 2\, 87763 Lautrach
END:VEVENT
END:VCALENDAR
